BEGIN:VCALENDAR
VERSION:2.0
PRODID:spatie/icalendar-generator
NAME:Larastreamers: watch Laravel Starter Kits: What's New w/ Wendell Adrie
 l
X-WR-CALNAME:Larastreamers: watch Laravel Starter Kits: What's New w/ Wende
 ll Adriel
DESCRIPTION:There is no better way to learn than by watching other develope
 rs code live. Find out who is streaming next in the Laravel world.
X-WR-CALDESC:There is no better way to learn than by watching other develop
 ers code live. Find out who is streaming next in the Laravel world.
BEGIN:VTIMEZONE
TZID:UTC
BEGIN:STANDARD
DTSTART:20250724T200007
TZOFFSETFROM:+0000
TZOFFSETTO:+0000
END:STANDARD
END:VTIMEZONE
BEGIN:VEVENT
UID:AbPSAt46Ja0
DTSTAMP:20260420T200007Z
SUMMARY:Laravel Starter Kits: What's New w/ Wendell Adriel
DESCRIPTION:Laravel Starter Kits: What's New w/ Wendell Adriel\nLaravel\nht
 tps://www.youtube.com/watch?v=AbPSAt46Ja0\n---------------\nLaravel's star
 ter kits give you a head start on your next application with authenticatio
 n\, settings\, and best practices built in across React\, Vue\, Svelte\, a
 nd Livewire. They just received a huge run of updates\, including team sup
 port\, Inertia v3 support\, and toast notifications.\n\nJoin Leah and Wend
 ell Adriel for a live walkthrough of what's new.
URL:https://www.youtube.com/watch?v=AbPSAt46Ja0
DTSTART:20260421T160000Z
DTEND:20260421T170000Z
END:VEVENT
END:VCALENDAR